BEGIN:VCALENDAR
VERSION:2.0
PRODID:-//eventon.com NONSGML v1.0//EN
CALSCALE:GREGORIAN
METHOD:PUBLISH
BEGIN:VEVENT
UID:69e9de2035519
DTSTAMP:20260423T085352Z
DTSTART:20230527T060000Z
DTEND:20230527T143000Z
LOCATION:Sporthalle Müden/Örtzen Wiesenweg 18\,  29328 Faßberg
SUMMARY:16. Rad-Touren-Fahrt (RTF) "Oberes Örtzetal" 2023
DESCRIPTION:Die RTF “Oberes Örtzetal” (Rad-Touren-Fahrt) 2023 ist eine
  der größten im ländlichen Raum in Norddeutschland. Am 27.05.2023 ist es
  nun endlich wieder soweit und der MTV Müden/Örtze richtet die 16. RTF 
 Oberes Örtzetal” aus. 16. Rad-Touren-Fahrt &#8220;Oberes Örtzetal&#822
 1; 2023 Die Rad-Touren-Fahrt ist die bekannteste und meistverbreitete Veran
 staltungsform des Radfahrens für[..]\nhttps://crossbike.club/events/16-rad
 -touren-fahrt-rtf-oberes-oertzetal-2023/
URL:https://crossbike.club/events/16-rad-touren-fahrt-rtf-oberes-oertzetal-2023/
END:VEVENT
END:VCALENDAR