BEGIN:VCALENDAR
VERSION:2.0
PRODID:-//eventon.com NONSGML v1.0//EN
CALSCALE:GREGORIAN
METHOD:PUBLISH
BEGIN:VEVENT
UID:69eb05c871c0b
DTSTAMP:20260424T055520Z
DTSTART:20220215T160000Z
DTEND:20220215T210000Z
LOCATION:Schulsporthalle Wöbbelin Neue Straße 18
SUMMARY:Radball (Dienstag) SV Lüblow e. V.
DESCRIPTION:Fahrrad auf die andere Art: Radball. RADBALLTRAINING DES SV WAN
 DERLUST LÜBLOW e.V Im SV Wanderlust Lüblow e.V. kann jeder\,  der auf Bal
 lsport und Radfahren nicht verzichten möchte\,  beides miteinander kombini
 eren: hier wird Radball gespielt. TRAININGSZIEL/ZIEL DER TOUR Getroffen wir
 d sich in der Schulsporthalle in Wöbbelin. Gespielt wird in verschiedenen 
 Altersklassen..[..]\nhttps://crossbike.club/events/radball-dienstag-sv-lueb
 low-e-v/var/ri-38.l-L1
URL:https://crossbike.club/events/radball-dienstag-sv-lueblow-e-v/var/ri-38.l-L1
END:VEVENT
END:VCALENDAR