BEGIN:VCALENDAR
VERSION:2.0
PRODID:-//eventon.com NONSGML v1.0//EN
CALSCALE:GREGORIAN
METHOD:PUBLISH
BEGIN:VEVENT
UID:69e73a09862ac
DTSTAMP:20260421T084913Z
DTSTART:20210313T210000Z
DTEND:20210313T230000Z
LOCATION:Wesenberger Kreisel
SUMMARY:Zeitfahren Test (TT Test) Wesenberg
DESCRIPTION:Gute 50 Kilometer Zeitfahren: Auf der Strecke von Klein Wesenbe
 rg nach Westerau und zurück … Insgesamt drei Runden. Zeitfahren Test &#8
 211; wesenberg Dieses Training hatte ich mir ursprünglich ausgedacht\,  um
  für mich einen Anhaltspunkt zu bekommen\,  wo ich beim Rennen Rund um Asc
 heffel stehe. Der Rundkurs ist ähnlich lang und[..]\nhttps://crossbike.clu
 b/events/zeitfahren-test-tt-test-wesenberg/
URL:https://crossbike.club/events/zeitfahren-test-tt-test-wesenberg/
END:VEVENT
END:VCALENDAR