BEGIN:VCALENDAR
VERSION:2.0
PRODID:-//eventon.com NONSGML v1.0//EN
CALSCALE:GREGORIAN
METHOD:PUBLISH
BEGIN:VEVENT
UID:69e77143463b1
DTSTAMP:20260421T124451Z
DTSTART:20201219T203000Z
DTEND:20201220T013000Z
LOCATION:P2 GHZ Moisling Oberbüssauerweg 6
SUMMARY:Grevesmühlen über Utechter Berg
DESCRIPTION:Gran Fondo Dezember 2020: Letzte Gelegenheit im Dezember die 10
 0k Marke für STRAVA zu reissen (und für Dich!). 120k Tour: Grevesmühlen 
 über Utechter Berg Dies ist die/eine Jahresabschlusstour der Rennradgang. 
 Los geht es auf dem Parkplatz P2 des GHZ Moisling in Richtung Niendorf. Gep
 lant sind 120 Kilometer bei einem moderaten[..]\nhttps://crossbike.club/eve
 nts/grevesmuehlen-rennrad-tour-2020-12/
URL:https://crossbike.club/events/grevesmuehlen-rennrad-tour-2020-12/
END:VEVENT
END:VCALENDAR