BEGIN:VCALENDAR
VERSION:2.0
PRODID:-//eventon.com NONSGML v1.0//EN
CALSCALE:GREGORIAN
METHOD:PUBLISH
BEGIN:VEVENT
UID:69e73b412811d
DTSTAMP:20260421T085425Z
DTSTART:20210321T080000Z
DTEND:20210321T043000Z
LOCATION:Ascheffel DorfstraÃŸe 8
SUMMARY:Rund um Ascheffel 2021 - Jedermannrennen
DESCRIPTION:&#8220;Rund um Ascheffel&#8221; ist ein Radrennen fÃ¼r Jederman
 n &#8211; doch nicht nur: Auch Teilnehmer mit UCI Lizenz kÃ¶nnen starten &#
 8230; 30. Radrennen &#8220;Rund um Ascheffel&#8221; 2021 &#8211; Das JubilÃ
 ¤um Die 30. Auflage startet in Ascheffel am Samstag\,  den 20. MÃ¤rz 2021. 
 Die SG ATHLETICO BÃœDELSDORF hÃ¤lt durch und so findet[..]\nhttps://crossbi
 ke.club/events/rund-um-ascheffel-2021-jedermannrennen/
URL:https://crossbike.club/events/rund-um-ascheffel-2021-jedermannrennen/
END:VEVENT
END:VCALENDAR